BEGIN:VCALENDAR
VERSION:2.0
PRODID:-// eRoom plugin //NONSGML v1.0//EN
CALSCALE:GREGORIAN
BEGIN:VEVENT
UID:eRoom-1776951899
SUMMARY:Shape Scarborough Junction
LOCATION:Zoom
DESCRIPTION:If you do not have the Zoom App installed\, please click “Joi
 n in Browser”\n\n---\n\nShape Scarborough Junction is inviting you to a 
 scheduled Zoom meeting.\n\nJoin Zoom Meeting\nhttps://zoom.us/j/9990050559
 1?pwd=b3Z2Vno3WTZ4WVFLRVZsYlRTYm5KQT09\n\nMeeting ID: 99900505591\nPasscod
 e: 351643\n
URL;VALUE=URI:https://zoom.us/j/99900505591?pwd=b3Z2Vno3WTZ4WVFLRVZsYlRTYm5KQT09
DTSTART:20200826T220000Z
DTEND:20200826T230000Z
DTSTAMP:20260423T134459Z
BEGIN:VALARM
ACTION:DISPLAY
DESCRIPTION:Reminder
TRIGGER;RELATED=START:-PT15M
END:VALARM
END:VEVENT
END:VCALENDAR